BEGIN:VCALENDAR
VERSION:2.0
PRODID:Events Booking
BEGIN:VEVENT
UID:69e7f368bd760
SUMMARY:Riot V
DESCRIPTION:Οι Riot V\, ένα από τα πιο ιστορικά ονό
 ματα του αμερικανικού heavy metal\, επιστρέφο
 υν στην Ελλάδα στο πλαίσιο της Hail To The Warrio
 rs Tour 2026.
 
LOCATION:Γεροκωστοπούλου 59\, Πάτρα 262 21
DTSTART:20261107T190000Z
DTEND:20261106T220000Z
DTSTAMP:20260331T102759Z
ORGANIZER:MAILTO:doraq@brainfoodmedia.gr
END:VEVENT
END:VCALENDAR