BEGIN:VCALENDAR
VERSION:2.0
PRODID:Events Booking
BEGIN:VEVENT
UID:69e7f39203536
SUMMARY:Riot V
DESCRIPTION:Το θρυλικό συγκρότημα\, που συνεχί
 ζει επάξια την κληρονομιά των Riot V\, γιορτ
 άζει 50 χρόνια ιστορίας με ένα επετειακό s
 et.
 
LOCATION:Πίνδου 1\, Θεσσαλονίκη 546 25\, Ελλάδα
DTSTART:20261110T190000Z
DTEND:20261109T220000Z
DTSTAMP:20260314T123402Z
ORGANIZER:MAILTO:doraq@brainfoodmedia.gr
GEO:40.6354;22.9365
X-APPLE-STRUCTURED-LOCATION;VALUE=URI;X-ADDRESS=Πίνδου 1\, Θεσσα
 λονίκη 546 25\, Ελλάδα;X-APPLE-RADIUS=72;X-TITLE=EightBall Clu
 b:40.6354;22.9365
END:VEVENT
END:VCALENDAR