BEGIN:VCALENDAR
VERSION:2.0
PRODID:Events Booking
BEGIN:VEVENT
UID:69e7f34ec4d63
SUMMARY:Riot V
DESCRIPTION:Το θρυλικό συγκρότημα\, που συνεχί
 ζει επάξια την κληρονομιά των Riot V\, γιορτ
 άζει 50 χρόνια ιστορίας με ένα επετειακό s
 et.
 
LOCATION:Ηπείρου 48\, Αθήνα 104 39\, Ελλάδα
DTSTART:20261106T190000Z
DTEND:20261105T220000Z
DTSTAMP:20260314T123402Z
ORGANIZER:MAILTO:doraq@brainfoodmedia.gr
GEO:37.9907;23.726299
X-APPLE-STRUCTURED-LOCATION;VALUE=URI;X-ADDRESS=Ηπείρου 48\, Αθή
 να 104 39\, Ελλάδα;X-APPLE-RADIUS=72;X-TITLE=Κύτταρο Live:3
 7.9907;23.726299
END:VEVENT
END:VCALENDAR