BEGIN:VCALENDAR
VERSION:2.0
PRODID:Events Booking
BEGIN:VEVENT
UID:69e7f33f56e0d
SUMMARY:Phantom Spell
DESCRIPTION:Οι Phantom Spell επιστρέφουν στην Ελλάδα
  για ένα χορταστικό headline show.
 
LOCATION:Ηπείρου 48\, Αθήνα 104 39\, Ελλάδα
DTSTART:20261025T190000Z
DTEND:20261024T210000Z
DTSTAMP:20260331T104015Z
ORGANIZER:MAILTO:doraq@brainfoodmedia.gr
GEO:37.9907;23.726299
X-APPLE-STRUCTURED-LOCATION;VALUE=URI;X-ADDRESS=Ηπείρου 48\, Αθή
 να 104 39\, Ελλάδα;X-APPLE-RADIUS=72;X-TITLE=Κύτταρο Live:3
 7.9907;23.726299
END:VEVENT
END:VCALENDAR