BEGIN:VCALENDAR
VERSION:2.0
PRODID:Events Booking
BEGIN:VEVENT
UID:69e7f368ef7b3
SUMMARY:Pestilence
DESCRIPTION:Η Demons Gate φέρνει στην Ελλάδα το ολλα
 νδικό death metal θωρηκτό Pestilence\, στήνοντας δύ
 ο death metal gatherings για τους οπαδούς του είδου
 ς.
 
LOCATION:Ηπείρου 48\, Αθήνα 104 39\, Ελλάδα
DTSTART:20261018T180000Z
DTEND:20261017T210000Z
DTSTAMP:20260315T061739Z
ORGANIZER:MAILTO:doraq@brainfoodmedia.gr
GEO:37.9907;23.726299
X-APPLE-STRUCTURED-LOCATION;VALUE=URI;X-ADDRESS=Ηπείρου 48\, Αθή
 να 104 39\, Ελλάδα;X-APPLE-RADIUS=72;X-TITLE=Κύτταρο Live:3
 7.9907;23.726299
END:VEVENT
END:VCALENDAR