BEGIN:VCALENDAR
VERSION:2.0
PRODID:Events Booking
BEGIN:VEVENT
UID:69e7f2a9cf87e
SUMMARY:Nine Below Zero
DESCRIPTION:Οι Nine Below Zero\, οι θρυλικοί Βρετανοί r
 hythm &amp\; blues ήρωες\, έρχονται στην Αθήνα&nbsp\
 ;φέρνοντας μαζί τους πάνω τέσσερις δεκαε
 τίες ιστορίας στη σκηνή αδιάκοπης live δρά
 σης\, groove και αληθινής ροκ ενέργειας.
 
LOCATION:Πειραιώς 105 & Βίτωνος\, Αθήνα 118 54
DTSTART:20261204T190000Z
DTEND:20261203T220000Z
DTSTAMP:20260207T173942Z
ORGANIZER:MAILTO:doraq@brainfoodmedia.gr
END:VEVENT
END:VCALENDAR