BEGIN:VCALENDAR
VERSION:2.0
PRODID:Events Booking
BEGIN:VEVENT
UID:69e69b2761a4f
SUMMARY:Ζωή Τηγανούρια
DESCRIPTION:Με τη μαεστρία και την πρωτοτυπία 
 που ακολουθούν τη συνθέτη &amp\; performer σε όλ
 η τη καλλιτεχνική της πορεία\, η Ζωή Τηγα
 νούρια παρουσιάζει ένα «αλλιώτικο» project!
LOCATION:Βιργινίας Μπενάκη 7\, Αθήνα 104 36\, Ελλά
 δα
DTSTART:20200228T170000Z
DTEND:20200228T190000Z
DTSTAMP:20231116T105416Z
ORGANIZER:MAILTO:doraq@brainfoodmedia.gr
GEO:37.9851;23.7187
X-APPLE-STRUCTURED-LOCATION;VALUE=URI;X-ADDRESS=Βιργινίας Μπεν
 άκη 7\, Αθήνα 104 36\, Ελλάδα;X-APPLE-RADIUS=72;X-TITLE=El C
 onvento Del Arte:37.9851;23.7187
END:VEVENT
END:VCALENDAR