BEGIN:VCALENDAR
VERSION:2.0
PRODID:Events Booking
BEGIN:VEVENT
UID:69e9115750379
SUMMARY:Υπόγεια Ρεύματα\, Magic de Spell\, Δημήτρης 
 Μητσοτάκης
DESCRIPTION:Επιτέλους! Τρια χρόνια μετά το τελ
 ευταίο (sold out όπως πάντα) ραντεβού και πολ
 λές ανεπίσημες αναβολές... το Κύτταρο\, μ
 ε μεγάλη χαρά ανακοινώνει\, τα Υπόγεια Ρε
 ύματα\, τους Magic de Spell\, τον Δημήτρη Μητσοτ
 άκη\, το καθιερωμένο συναυλιακό ραντεβού
  του Γενάρη\, που μας έχει χαρίσει τόσες α
 ξέχαστες στιγμές\, που στερηθήκαμε τα δύ
 σκολα χρόνια που αφήνουμε πίσω μας...
 
LOCATION:Ηπείρου 48\, Αθήνα 104 39\, Ελλάδα
DTSTART:20230128T180000Z
DTEND:20230128T195900Z
DTSTAMP:20231116T105416Z
ORGANIZER:MAILTO:doraq@brainfoodmedia.gr
GEO:37.9907;23.726299
X-APPLE-STRUCTURED-LOCATION;VALUE=URI;X-ADDRESS=Ηπείρου 48\, Αθή
 να 104 39\, Ελλάδα;X-APPLE-RADIUS=72;X-TITLE=Κύτταρο Live:3
 7.9907;23.726299
END:VEVENT
END:VCALENDAR