BEGIN:VCALENDAR
VERSION:2.0
PRODID:Events Booking
BEGIN:VEVENT
UID:69eaa586c1ec2
SUMMARY:Υπόγεια Ρεύματα
DESCRIPTION:Τα Υπόγεια Ρεύματα έρχονται δυναμ
 ικά στη σκηνή της Τεχνόπολης Δήμου Αθηνα
 ίων\, για μια συναυλία αφιερωμένη στην με
 λοποιημένη ποίηση.
 
LOCATION:Pireos 100\, Athina 118 54
DTSTART:20260613T180000Z
DTEND:20260612T210000Z
DTSTAMP:20260423T071759Z
ORGANIZER:MAILTO:doraq@brainfoodmedia.gr
GEO:37.978446;23.713615
X-APPLE-STRUCTURED-LOCATION;VALUE=URI;X-ADDRESS=Pireos 100\, Athina 118 54;
 X-APPLE-RADIUS=72;X-TITLE=Τεχνόπολη Δήμου Αθηναίων:3
 7.978446;23.713615
END:VEVENT
END:VCALENDAR