BEGIN:VCALENDAR
VERSION:2.0
PRODID:Events Booking
BEGIN:VEVENT
UID:69e739f220f73
SUMMARY:Yngwie Malmsteen
DESCRIPTION:Ο&nbsp\;θρυλικός Malmsteen θα κάνει στάση 
 στην Ελλάδα για 2&nbsp\;εμφανίσεις που θα αφ
 ήσουν ιστορία.&nbsp\;
 
LOCATION:Pireos 100\, Athina 118 54
DTSTART:20260719T183000Z
DTEND:20260718T210000Z
DTSTAMP:20260419T040415Z
ORGANIZER:MAILTO:doraq@brainfoodmedia.gr
GEO:37.978446;23.713615
X-APPLE-STRUCTURED-LOCATION;VALUE=URI;X-ADDRESS=Pireos 100\, Athina 118 54;
 X-APPLE-RADIUS=72;X-TITLE=Τεχνόπολη Δήμου Αθηναίων:3
 7.978446;23.713615
END:VEVENT
END:VCALENDAR