BEGIN:VCALENDAR
VERSION:2.0
PRODID:Events Booking
BEGIN:VEVENT
UID:69e6edb2d2937
SUMMARY:Χατζηφραγκέτα
DESCRIPTION:Οι Χατζηφραγκέτα μετά από δύο χρόν
 ια απουσίας επανέρχονται σε full band σύνθεσ
 η στην κεντρική σκηνή του Σταυρού του Νό
 του τις Πέμπτες του Νοέμβρη.
LOCATION:Θαρύπου 37\, Αθήνα 117 43\, Ελλάδα
DTSTART:20191107T180000Z
DTEND:20191107T195900Z
DTSTAMP:20231116T105416Z
ORGANIZER:MAILTO:doraq@brainfoodmedia.gr
GEO:37.962002;23.726101
X-APPLE-STRUCTURED-LOCATION;VALUE=URI;X-ADDRESS=Θαρύπου 37\, Αθή
 να 117 43\, Ελλάδα;X-APPLE-RADIUS=72;X-TITLE=Σταυρός Του
  Νότου / Κεντρική Σκηνή:37.962002;23.726101
END:VEVENT
END:VCALENDAR