BEGIN:VCALENDAR
VERSION:2.0
PRODID:Events Booking
BEGIN:VEVENT
UID:69ea5660a8585
SUMMARY:Vodka Juniors
DESCRIPTION:    3 χρόνια\, 7 μήνες και 29 μέρες από 
 το τελευταίο live στην Αθήνα.
 
LOCATION:Λιοσίων 205\, Αθήνα 104 45\, Ελλάδα
DTSTART:20221210T163000Z
DTEND:20221210T190000Z
DTSTAMP:20231116T105416Z
ORGANIZER:MAILTO:doraq@brainfoodmedia.gr
GEO:38.003601;23.721701
X-APPLE-STRUCTURED-LOCATION;VALUE=URI;X-ADDRESS=Λιοσίων 205\, Αθή
 να 104 45\, Ελλάδα;X-APPLE-RADIUS=72;X-TITLE=Gagarin 205:38.003601
 ;23.721701
END:VEVENT
END:VCALENDAR