BEGIN:VCALENDAR
VERSION:2.0
PRODID:Events Booking
BEGIN:VEVENT
UID:69e84b88c7564
SUMMARY:Βικτωρία Ταγκούλη
DESCRIPTION:Η Βικτωρία Ταγκούλη ξανασυστήνετα
 ι στο κοινό μέσα από τη μουσική παράστασ
 η «V for Victoria» για πιάνο και φωνή\, που περι
 κλείει την ανατρεπτική\, χιουμοριστική\, 
 σκαμπρόζικη\, αλλά και τρυφερή ματιά της 
 πάνω στα πράγματα\, την Κυριακή 8 Δεκεμβρ
 ίου\, στην Μουσική Βιβλιοθήκη «Λίλιαν Βο
 υδούρη» του Συλλόγου «Οι φίλοι της μουσι
 κής» του Μεγάρου Μουσικής Αθηνών.
LOCATION:Βασ. Σοφίας & Κόκκαλη\, Αθήνα 115 21\, Ελλ
 άδα
DTSTART:20191208T150000Z
DTEND:20191208T190000Z
DTSTAMP:20231116T105416Z
ORGANIZER:MAILTO:doraq@brainfoodmedia.gr
GEO:37.981499;23.7544
X-APPLE-STRUCTURED-LOCATION;VALUE=URI;X-ADDRESS=Βασ. Σοφίας & Κό
 κκαλη\, Αθήνα 115 21\, Ελλάδα;X-APPLE-RADIUS=72;X-TITLE=Μ
 έγαρο Μουσικής Αθηνών:37.981499;23.7544
END:VEVENT
END:VCALENDAR