BEGIN:VCALENDAR
VERSION:2.0
PRODID:Events Booking
BEGIN:VEVENT
UID:69eae809ceb5b
SUMMARY:Viagra Boys
DESCRIPTION:Αν το όνομα Viagra Boys σε κάνει να σκέφ
 τεσαι αποτυχημένες σεξουαλικές ικανότη
 τες τότε έχει πετύχει το σκοπό του. Το όν
 ομα επιλέχτηκε ως ένα pun για τον (αποτυχη
 μένο) ρόλο του άντρα στην κοινωνία.
LOCATION:Πειραιώς 117\, Αθήνα 118 54\, Ελλάδα
DTSTART:20200314T150000Z
DTEND:20200314T190000Z
DTSTAMP:20231116T105416Z
ORGANIZER:MAILTO:doraq@brainfoodmedia.gr
GEO:37.9757;23.7111
X-APPLE-STRUCTURED-LOCATION;VALUE=URI;X-ADDRESS=Πειραιώς 117\, Αθ
 ήνα 118 54\, Ελλάδα;X-APPLE-RADIUS=72;X-TITLE=Πειραιώς 11
 7 Academy:37.9757;23.7111
END:VEVENT
END:VCALENDAR