BEGIN:VCALENDAR
VERSION:2.0
PRODID:Events Booking
BEGIN:VEVENT
UID:69eaa6f72f56b
SUMMARY:Venus In Furs
DESCRIPTION:Ακούγεται σαν ονείρωξη\, θα είναι ό
 μως πραγματικότητα: Shelly d’Inferno και Dani Divine
 \, για 1η φορά μαζί στην Ελλάδα\, στην σκην
 ή του Gagarin 205.
LOCATION:Λιοσίων 205\, Αθήνα 104 45\, Ελλάδα
DTSTART:20200321T082327Z
DTEND:20200321T082332Z
DTSTAMP:20231116T105416Z
ORGANIZER:MAILTO:doraq@brainfoodmedia.gr
GEO:38.003601;23.721701
X-APPLE-STRUCTURED-LOCATION;VALUE=URI;X-ADDRESS=Λιοσίων 205\, Αθή
 να 104 45\, Ελλάδα;X-APPLE-RADIUS=72;X-TITLE=Gagarin 205:38.003601
 ;23.721701
END:VEVENT
END:VCALENDAR