BEGIN:VCALENDAR
VERSION:2.0
PRODID:Events Booking
BEGIN:VEVENT
UID:69eb8e6e5543c
SUMMARY:Uriah Heep
DESCRIPTION:Οι Uriah Heep επιστρέφουν για μία τελευ
 ταία εμφάνιση στη χώρα μας\,&nbsp\;στο πλαίσ
 ιο της αποχαιρετιστήριας περιοδείας του
 ς “The Magician’s Farewell”.&nbsp\;
 
LOCATION:Πειραιώς 117\, Αθήνα 118 54
DTSTART:20261108T190000Z
DTEND:20261107T220000Z
DTSTAMP:20260424T091327Z
ORGANIZER:MAILTO:doraq@brainfoodmedia.gr
END:VEVENT
END:VCALENDAR