BEGIN:VCALENDAR
VERSION:2.0
PRODID:Events Booking
BEGIN:VEVENT
UID:69ec23e215459
SUMMARY:Τσιμέντο\, Kidney Black
DESCRIPTION:\"Ανάβουμε τους ενισχυτές\, τεντώνο
 υμε νεύρα\, τένοντες χορδές και ετοιμαζό
 μαστε να αντιμετωπίσουμε το εκλογικό χά
 ος που θα λάβει χώρα αυτές τις ενδιάμεσε
 ς ημέρες μεταξύ των πρώτων και δεύτερων 
 εκλογών.
 
LOCATION:Ωγύγου 16\, Αθήνα 105 54\, Ελλάδα
DTSTART:20230609T153000Z
DTEND:20230609T175900Z
DTSTAMP:20231116T105416Z
ORGANIZER:MAILTO:doraq@brainfoodmedia.gr
GEO:37.978298;23.722401
X-APPLE-STRUCTURED-LOCATION;VALUE=URI;X-ADDRESS=Ωγύγου 16\, Αθήν
 α 105 54\, Ελλάδα;X-APPLE-RADIUS=72;X-TITLE=DeathDisco:37.978298;23
 .722401
END:VEVENT
END:VCALENDAR