BEGIN:VCALENDAR
VERSION:2.0
PRODID:Events Booking
BEGIN:VEVENT
UID:69eab5251bf0b
SUMMARY:This is Michael
DESCRIPTION:Το απόλυτο tribute στον Michael Jackson.
LOCATION:Λεωφόρος Βεϊκου 137\, Αθήνα 111 46
DTSTART:20260515T170000Z
DTEND:20260514T210000Z
DTSTAMP:20251022T020005Z
ORGANIZER:MAILTO:doraq@brainfoodmedia.gr
END:VEVENT
END:VCALENDAR