BEGIN:VCALENDAR
VERSION:2.0
PRODID:Events Booking
BEGIN:VEVENT
UID:69e89469c84dc
SUMMARY:The Lobsters\, The Ripples\, argenté & the dudes
DESCRIPTION:Mία hard rock βραδιά στο Faust! Tρία ροκ συ
 γκροτήματα\, με το δικό τους στίγμα το κα
 θένα\, ανεβαίνουν στη σκηνή του Faust σε μία
  ηλεκτρισμένη εμφάνιση την Κυριακή 27 Νοε
 μβρίου.
 
LOCATION:Αθηναΐδος και Καλαμιωτού\, Αθήνα 105 63
 \, Ελλάδα
DTSTART:20221127T173000Z
DTEND:20221127T195900Z
DTSTAMP:20231116T105416Z
ORGANIZER:MAILTO:doraq@brainfoodmedia.gr
GEO:37.976799;23.729
X-APPLE-STRUCTURED-LOCATION;VALUE=URI;X-ADDRESS=Αθηναΐδος και 
 Καλαμιωτού\, Αθήνα 105 63\, Ελλάδα;X-APPLE-RADIUS=72;
 X-TITLE=Faust Bar Theater Arts:37.976799;23.729
END:VEVENT
END:VCALENDAR