BEGIN:VCALENDAR
VERSION:2.0
PRODID:Events Booking
BEGIN:VEVENT
UID:69e95592e6242
SUMMARY:The 69 Eyes
DESCRIPTION:Το iconic φινλανδικό goth σχήμα The 69 Eyes ε
 πιστρέφει στην Ελλάδα!
 
LOCATION:Βουτάδων 34\, Αθήνα 118 54
DTSTART:20260507T180000Z
DTEND:20260506T210000Z
DTSTAMP:20260121T084208Z
ORGANIZER:MAILTO:doraq@brainfoodmedia.gr
END:VEVENT
END:VCALENDAR