BEGIN:VCALENDAR
VERSION:2.0
PRODID:Events Booking
BEGIN:VEVENT
UID:69e5e27b2d356
SUMMARY:String Theory
DESCRIPTION:\"Κι εσείς\; Πώς τα περνάτε\"\;
 Μουσι
 κό αναλόγιο από το String Theory
 
LOCATION:Κορυτσάς 39\, Αθήνα 104 47
DTSTART:20211205T170000Z
DTEND:20211205T195900Z
DTSTAMP:20231116T105416Z
ORGANIZER:MAILTO:doraq@brainfoodmedia.gr
END:VEVENT
END:VCALENDAR