BEGIN:VCALENDAR
VERSION:2.0
PRODID:Events Booking
BEGIN:VEVENT
UID:69e4f6820bb1e
SUMMARY:Sophie Lies & Nefeli Walking Undercover
DESCRIPTION:Η Sophie Lies και η Nefeli Walking Undercover ενώνου
 ν τα ηχητικά τους σύμπαντα σε μια βραδιά 
 τρυφερής ποπ-φολκ μουσικής δωματίου και 
 ιδιοσυγκρασιακής εξιστόρησης.
 
LOCATION:Φιλελλήνων 27\, Αθήνα 105 57\, Ελλάδα
DTSTART:20260424T180000Z
DTEND:20260423T210000Z
DTSTAMP:20260419T035952Z
ORGANIZER:MAILTO:doraq@brainfoodmedia.gr
GEO:37.972401;23.733601
X-APPLE-STRUCTURED-LOCATION;VALUE=URI;X-ADDRESS=Φιλελλήνων 27\, 
 Αθήνα 105 57\, Ελλάδα;X-APPLE-RADIUS=72;X-TITLE=Αγγλικα
 νική Εκκλησία Αγ. Παύλου:37.972401;23.733601
END:VEVENT
END:VCALENDAR