BEGIN:VCALENDAR
VERSION:2.0
PRODID:Events Booking
BEGIN:VEVENT
UID:69e7a614dfb44
SUMMARY:Σοφία Ανδριανού
DESCRIPTION:Τις Κυριακές του Νοεμβρίου η Σοφία
  Ανδριανού για πρώτη φορά στο Γυάλινο Μο
 υσικό Θέατρο Up Stage. Με διαφορετικούς εκλε
 κτούς καλεσμένους έκπληξη κάθε Κυριακή. 
LOCATION:Λεωφόρος Ανδρέα Συγγρού 143\, Νέα Σμύρ
 νη 171 21\, Ελλάδα
DTSTART:20191117T170000Z
DTEND:20191117T195900Z
DTSTAMP:20231116T105416Z
ORGANIZER:MAILTO:doraq@brainfoodmedia.gr
GEO:37.9548;23.7145
X-APPLE-STRUCTURED-LOCATION;VALUE=URI;X-ADDRESS=Λεωφόρος Ανδρέ
 α Συγγρού 143\, Νέα Σμύρνη 171 21\, Ελλάδα;X-APPLE-
 RADIUS=72;X-TITLE=Γυάλινο Μουσικό Θέατρο - Up Stage:37
 .9548;23.7145
END:VEVENT
END:VCALENDAR