BEGIN:VCALENDAR
VERSION:2.0
PRODID:Events Booking
BEGIN:VEVENT
UID:69e51e263497f
SUMMARY:Sleaford Mods
DESCRIPTION:Οι Sleaford Mods επιστρέφουν στην Αθήνα 
 για μια εμφάνιση&nbsp\;που δεν θα μοιάζει μ
 ε τίποτα που έχεις δει!
 
LOCATION:Πειραιώς 117\, Αθήνα 118 54
DTSTART:20261107T200000Z
DTEND:20261106T220000Z
DTSTAMP:20260419T061645Z
ORGANIZER:MAILTO:doraq@brainfoodmedia.gr
END:VEVENT
END:VCALENDAR