BEGIN:VCALENDAR
VERSION:2.0
PRODID:Events Booking
BEGIN:VEVENT
UID:69e671f919a53
SUMMARY:Sani Festival 2026: Soul II Soul
DESCRIPTION:Ένα εμβληματικό συγκρότημα της πα
 γκόσμιας soul σκηνής.
 
LOCATION:Κασσάνδρα 630 77\, Ελλάδα
DTSTART:20260808T180000Z
DTEND:20260807T210000Z
DTSTAMP:20260305T161624Z
ORGANIZER:MAILTO:doraq@brainfoodmedia.gr
GEO:40.001202;23.4205
X-APPLE-STRUCTURED-LOCATION;VALUE=URI;X-ADDRESS=Κασσάνδρα 630 77\,
  Ελλάδα;X-APPLE-RADIUS=72;X-TITLE=Λόφος Σάνης (Sani Resort
 ):40.001202;23.4205
END:VEVENT
END:VCALENDAR