BEGIN:VCALENDAR
VERSION:2.0
PRODID:Events Booking
BEGIN:VEVENT
UID:69e9eb5decdcc
SUMMARY:Ross Daly Quartet
DESCRIPTION:Το Theatre of the NO υποδέχεται τον Ross Daly κ
 αι το κουαρτέτο του το Σάββατο 25 Απριλίο
 υ\, σε δύο διαδοχικές συναυλίες.
 
LOCATION:Κωνσταντίνου Παλαιολόγου 3\, Αθήνα 104
  38
DTSTART:20260425T150000Z
DTEND:20260424T210000Z
DTSTAMP:20260423T041720Z
ORGANIZER:MAILTO:doraq@brainfoodmedia.gr
END:VEVENT
END:VCALENDAR