BEGIN:VCALENDAR
VERSION:2.0
PRODID:Events Booking
BEGIN:VEVENT
UID:69e5e3021b543
SUMMARY:Remi & The Road
DESCRIPTION:Η πιο εργατική μπάντα δρόμου σκαρφ
 αλώνει στη σκηνή ενός θεάτρου\, ντύνεται\
 , γυαλίζεται και ετοιμάζεται να μεταφέρε
 ι την ενέργεια της μουσικής του δρόμου σ
 ε ένα μουσικό-χορευτικό καθώς και διαδρα
 στικό δρώμενο αυθεντικής Folk\, Country\, Rock & Rol
 l μουσικής μαζί με διασκευές ηρώων της ίδ
 ιας σκηνής.
LOCATION:Ιερά Οδός 44\, Αθήνα 104 35\, Ελλάδα
DTSTART:20190212T183000Z
DTEND:20190212T183000Z
DTSTAMP:20231116T105416Z
ORGANIZER:MAILTO:doraq@brainfoodmedia.gr
GEO:37.980598;23.7129
X-APPLE-STRUCTURED-LOCATION;VALUE=URI;X-ADDRESS=Ιερά Οδός 44\, Αθ
 ήνα 104 35\, Ελλάδα;X-APPLE-RADIUS=72;X-TITLE=Θέατρο Χυτ
 ήριο + Art Cafe:37.980598;23.7129
END:VEVENT
END:VCALENDAR