BEGIN:VCALENDAR
VERSION:2.0
PRODID:Events Booking
BEGIN:VEVENT
UID:69e7bfc5b282f
SUMMARY:Release Athens x SNF Nostos 2026: Jean-Michel Jarre\, Sébastien Te
 llier + more t.b.a.
DESCRIPTION:Τη Δευτέρα 22 Ιουνίου\, στο Ξέφωτο τ
 ου Κέντρου Πολιτισμού Ίδρυμα Σταύρος Νι
 άρχος\, υποδεχόμαστε τον θρυλικό Jean-Michel Ja
 rre.
 
LOCATION:Λεωφ. Ανδρέα Συγγρού 364\, Καλλιθέα 176 7
 4\, Ελλάδα
DTSTART:20260622T180000Z
DTEND:20260621T210000Z
DTSTAMP:20260213T140528Z
ORGANIZER:MAILTO:doraq@brainfoodmedia.gr
GEO:37.941502;23.696899
X-APPLE-STRUCTURED-LOCATION;VALUE=URI;X-ADDRESS=Λεωφ. Ανδρέα Συ
 γγρού 364\, Καλλιθέα 176 74\, Ελλάδα;X-APPLE-RADIUS=72;
 X-TITLE=Κέντρο Πολιτισμού Ίδρυμα Σταύρος Νι
 άρχος:37.941502;23.696899
END:VEVENT
END:VCALENDAR