BEGIN:VCALENDAR
VERSION:2.0
PRODID:Events Booking
BEGIN:VEVENT
UID:69e9f5963ae61
SUMMARY:Release Athens 2026: Παύλος Παυλίδης\, Pan Pan\, Π
 αιδί Τραύμα
DESCRIPTION:Το Release Athens 2026 υποδέχεται τον Παύλο
  Παυλίδη\, την Κυριακή 5 Ιουλίου\, στην Πλα
 τεία Νερού.
 
LOCATION:Δέλτα Φαλήρου\, Aθήνα 11742\, Ελλάδ
DTSTART:20260705T160000Z
DTEND:20260704T210000Z
DTSTAMP:20260313T064147Z
ORGANIZER:MAILTO:doraq@brainfoodmedia.gr
END:VEVENT
END:VCALENDAR