BEGIN:VCALENDAR
VERSION:2.0
PRODID:Events Booking
BEGIN:VEVENT
UID:69eab111e50ae
SUMMARY:Πυξ Λαξ
DESCRIPTION:Το Σάββατο 6 Ιουνίου οι ΠΥΞ ΛΑΞ επι
 στρέφουν στο κλασικό τους στέκι\, όπου η 
 μουσική τους “πιάνει” την Αθήνα από ψηλ
 ά.
 
LOCATION:Λόφος Λυκαβηττού\, Αθήνα\, Ελλάδα
DTSTART:20260606T180000Z
DTEND:20260605T210000Z
DTSTAMP:20260309T125654Z
ORGANIZER:MAILTO:doraq@brainfoodmedia.gr
GEO:37.9828;23.746
X-APPLE-STRUCTURED-LOCATION;VALUE=URI;X-ADDRESS=Λόφος Λυκαβηττ
 ού\, Αθήνα\, Ελλάδα;X-APPLE-RADIUS=72;X-TITLE=Θέατρο Λ
 υκαβηττού:37.9828;23.746
END:VEVENT
END:VCALENDAR