BEGIN:VCALENDAR
VERSION:2.0
PRODID:Events Booking
BEGIN:VEVENT
UID:69e70690852da
SUMMARY:Ψύλλοι στ' Άχυρα\, Τρύφων Λάζος\, Χρήσ
 τος Αλεξόπουλος
DESCRIPTION:Την Παρασκευή 13 Δεκεμβρίου στο An Clu
 b\, η Puzzlemusik παρουσιάζει τρεις διαφορετικ
 ές εκφράσεις τραγουδιού με ελληνικό στί
 χο. Τρία από τα κομμάτια του παζλ που συν
 θέτουν την σύγχρονη ελληνική τραγουδοπο
 ιία. 
LOCATION:Σολωμού 13\, Αθήνα 106 82\, Ελλάδα
DTSTART:20191213T160000Z
DTEND:20191213T190000Z
DTSTAMP:20231116T105416Z
ORGANIZER:MAILTO:doraq@brainfoodmedia.gr
GEO:37.9865;23.7332
X-APPLE-STRUCTURED-LOCATION;VALUE=URI;X-ADDRESS=Σολωμού 13\, Αθή
 να 106 82\, Ελλάδα;X-APPLE-RADIUS=72;X-TITLE=An Club:37.9865;23.73
 32
END:VEVENT
END:VCALENDAR