BEGIN:VCALENDAR
VERSION:2.0
PRODID:Events Booking
BEGIN:VEVENT
UID:69e70e33d4678
SUMMARY:Processes Festival 2026
DESCRIPTION:Το Processes Festival\, αφιερωμένο στη σύγχ
 ρονη μουσική δημιουργία\, επιστρέφει δυν
 αμικά με τη Spring Edition 2026 στον πολυχώρο REVMA /
  Performing Arts Society.
 
LOCATION:Σερβίων 8\, Αθήνα 104 41
DTSTART:20260510T173000Z
DTEND:20260509T210000Z
DTSTAMP:20260306T131628Z
ORGANIZER:MAILTO:doraq@brainfoodmedia.gr
END:VEVENT
END:VCALENDAR