BEGIN:VCALENDAR
VERSION:2.0
PRODID:Events Booking
BEGIN:VEVENT
UID:69e79374863fe
SUMMARY:Polkar
DESCRIPTION:Αγαπητή μαμά. Προσπάθησα πολύ\, αλλ
 ά δεν τα κατάφερα. Ήθελα να παραμείνω καθ
 αρός\, φρόνιμος και καλούλης. Αλλά ο ροκ σ
 ταρ που κρύβω μέσα μου δεν μπόρεσε να σωπ
 άσει. 
LOCATION:Θαρύπου 35\, Αθήνα 117 43\, Ελλάδα
DTSTART:20191220T173000Z
DTEND:20191220T190000Z
DTSTAMP:20231116T105416Z
ORGANIZER:MAILTO:doraq@brainfoodmedia.gr
GEO:37.961899;23.726
X-APPLE-STRUCTURED-LOCATION;VALUE=URI;X-ADDRESS=Θαρύπου 35\, Αθή
 να 117 43\, Ελλάδα;X-APPLE-RADIUS=72;X-TITLE=Σταυρός Του
  Νότου / Club:37.961899;23.726
END:VEVENT
END:VCALENDAR