BEGIN:VCALENDAR
VERSION:2.0
PRODID:Events Booking
BEGIN:VEVENT
UID:69e7136da4cd5
SUMMARY:Plastiras Lake Festival 2026: Παιδί Τραύμα\, Μαρίν
 α Σπανού\, Παύλος Παυλίδης\, Λόγος Τιμής
DESCRIPTION:Τραγούδα\, ταξίδεψε\, ζήσε τη στιγμ
 ή!
 
LOCATION:Λίμνη Πλαστήρα\, Πλαστήρας 430 67\, Ελλά
 δα
DTSTART:20260710T160000Z
DTEND:20260709T210000Z
DTSTAMP:20260305T160953Z
ORGANIZER:MAILTO:doraq@brainfoodmedia.gr
GEO:39.297199;21.752501
X-APPLE-STRUCTURED-LOCATION;VALUE=URI;X-ADDRESS=Λίμνη Πλαστήρα
 \, Πλαστήρας 430 67\, Ελλάδα;X-APPLE-RADIUS=72;X-TITLE=Βο
 τανικός Κήπος - Λ.Πλαστήρα:39.297199;21.752501
END:VEVENT
END:VCALENDAR