BEGIN:VCALENDAR
VERSION:2.0
PRODID:Events Booking
BEGIN:VEVENT
UID:69e94f546d27d
SUMMARY:Παζάρι Δίσκων
DESCRIPTION:Ανήκεις στην κατηγορία του παθιασ
 μένου συλλέκτη\; Λατρεύεις να ανακαλύπτε
 ις παλιά συλλεκτικά βινύλια\; Ψάχνεις κά
 ποιο album για να συμπληρώσεις την δισκοθή
 κη σου\; Τότε μην χάσεις το Σάββατο 18 και 
 την Κυριακή 19 Δεκεμβρίου\, το Παζάρι Δίσκ
 ων\, στον υπέροχο χώρο της Δημοτικής Αγορ
 άς Κυψέλης!
 
LOCATION:Φωκίωνος Νέγρη 42\, Αθήνα 113 61
DTSTART:20211218T090000Z
DTEND:20211218T170000Z
DTSTAMP:20231116T105416Z
ORGANIZER:MAILTO:doraq@brainfoodmedia.gr
END:VEVENT
END:VCALENDAR