BEGIN:VCALENDAR
VERSION:2.0
PRODID:Events Booking
BEGIN:VEVENT
UID:69eb2d3c0a0ae
SUMMARY:Παντελής Κυραμαργιός & Ελευθερία Πάτ
 ση
DESCRIPTION:Ο Παντελής Κυραμαργιός και η Ελευθ
 ερία Πάτση βάζουν τους σκούφους των σεφ 
 και με πρώτη ύλη αγαπημένες μουσικές και
  τραγούδια στρώνονται στην παρασκευή τω
 ν πιο νόστιμων τραγουδιών για τις γιορτι
 νές μέρες στη μουσική σκηνή Ερμού 135.
LOCATION:Ερμού 135\, Αθήνα 105 55
DTSTART:20191220T173000Z
DTEND:20191220T190000Z
DTSTAMP:20231116T105416Z
ORGANIZER:MAILTO:doraq@brainfoodmedia.gr
END:VEVENT
END:VCALENDAR