BEGIN:VCALENDAR
VERSION:2.0
PRODID:Events Booking
BEGIN:VEVENT
UID:69e5aff86f8d0
SUMMARY:Panik At The Opera
DESCRIPTION:Με αφορμή τη μέρα της γυναίκας\, οι 
 Panik at the Opera υμνούν τη γυναίκα\, την ομορφι
 ά\, τον έρωτα και τη ζωή\, σε μία παράσταση
  πρωτότυπη και διαφορετική\, μία παράστα
 ση εμπειρία.
 
LOCATION:Τριβωνιανού 17\, Αθήνα 116 36\, Ελλάδα
DTSTART:20230322T173000Z
DTEND:20230322T195900Z
DTSTAMP:20231116T105416Z
ORGANIZER:MAILTO:doraq@brainfoodmedia.gr
GEO:37.965;23.734699
X-APPLE-STRUCTURED-LOCATION;VALUE=URI;X-ADDRESS=Τριβωνιανού 17\,
  Αθήνα 116 36\, Ελλάδα;X-APPLE-RADIUS=72;X-TITLE=Half Note Jazz
  Club:37.965;23.734699
END:VEVENT
END:VCALENDAR