BEGIN:VCALENDAR
VERSION:2.0
PRODID:Events Booking
BEGIN:VEVENT
UID:69ebca3d569f9
SUMMARY:Panik At The Opera
DESCRIPTION:Σε μια cool παράσταση\, οι Panik at the Opera\,
  το απρόβλεπτο μουσικό σχήμα που έχει ήδ
 η αφήσει έντονο καλλιτεχνικό στίγμα εντ
 ός και εκτός Ελλάδος\, παρουσιάζουν το νέ
 ο τους εγχείρημα: “The Spaceman”.
 
LOCATION:Τριβωνιανού 17\, Αθήνα 116 36\, Ελλάδα
DTSTART:20260427T183000Z
DTEND:20260426T210000Z
DTSTAMP:20260424T112703Z
ORGANIZER:MAILTO:doraq@brainfoodmedia.gr
GEO:37.965;23.734699
X-APPLE-STRUCTURED-LOCATION;VALUE=URI;X-ADDRESS=Τριβωνιανού 17\,
  Αθήνα 116 36\, Ελλάδα;X-APPLE-RADIUS=72;X-TITLE=Half Note Jazz
  Club:37.965;23.734699
END:VEVENT
END:VCALENDAR