BEGIN:VCALENDAR
VERSION:2.0
PRODID:Events Booking
BEGIN:VEVENT
UID:69eb923a70b30
SUMMARY:Νίκος Ξυδάκης
DESCRIPTION:Ο Νίκος Ξυδάκης επιστρέφει για δύο
  ξεχωριστές βραδιές στη σκηνή του Half Note Ja
 zz Club\, σε ένα πρόγραμμα συνάντησης\, μνήμη
 ς και ζωντανής δημιουργίας.
 
LOCATION:Τριβωνιανού 17\, Αθήνα 116 36\, Ελλάδα
DTSTART:20260425T193000Z
DTEND:20260424T210000Z
DTSTAMP:20260424T111332Z
ORGANIZER:MAILTO:doraq@brainfoodmedia.gr
GEO:37.965;23.734699
X-APPLE-STRUCTURED-LOCATION;VALUE=URI;X-ADDRESS=Τριβωνιανού 17\,
  Αθήνα 116 36\, Ελλάδα;X-APPLE-RADIUS=72;X-TITLE=Half Note Jazz
  Club:37.965;23.734699
END:VEVENT
END:VCALENDAR