BEGIN:VCALENDAR
VERSION:2.0
PRODID:Events Booking
BEGIN:VEVENT
UID:69ea67a9e0530
SUMMARY:Νεφέλη Φασούλη
DESCRIPTION:Καλώς ήρθατε στον κόσμο της Νεφέλη
 ς Φασούλη\, έναν κόσμο γεμάτο αντιθέσεις\
 , στριμωγμένο κάπου ανάμεσα στα τζαζ βιν
 ύλια που μαζεύει από μικρή και στο λαϊ
 κό των τζούκ μποξ που με έναν τρόπο ακούγ
 εται κάτω από το βήμα της\, την ώρα που πε
 ρπατάει στους δρόμους. 
 
LOCATION:Αβραμιώτου 6\, Αθήνα 105 51\, Ελλάδα
DTSTART:20211203T173000Z
DTEND:20211203T195900Z
DTSTAMP:20231116T105416Z
ORGANIZER:MAILTO:doraq@brainfoodmedia.gr
GEO:37.977501;23.726801
X-APPLE-STRUCTURED-LOCATION;VALUE=URI;X-ADDRESS=Αβραμιώτου 6\, Α
 θήνα 105 51\, Ελλάδα;X-APPLE-RADIUS=72;X-TITLE=Six D.O.G.S.:37.9
 77501;23.726801
END:VEVENT
END:VCALENDAR