BEGIN:VCALENDAR
VERSION:2.0
PRODID:Events Booking
BEGIN:VEVENT
UID:69ebce24616e4
SUMMARY:Νατάσσα Μποφίλιου\, Μανώλης Φάμελλος
DESCRIPTION:Μετά από μεγάλη απαίτηση του κοινο
 ύ\, προστίθενται δύο νέες παραστάσεις τη
 ν Τετάρτη 29 και την Πέμπτη 30 Απριλίου.
 
LOCATION:Τουρναβίτου 7\, Αθήνα 105 53\, Ελλάδα
DTSTART:20260429T180000Z
DTEND:20260428T210000Z
DTSTAMP:20260424T110718Z
ORGANIZER:MAILTO:doraq@brainfoodmedia.gr
GEO:37.9785;23.7209
X-APPLE-STRUCTURED-LOCATION;VALUE=URI;X-ADDRESS=Τουρναβίτου 7\, 
 Αθήνα 105 53\, Ελλάδα;X-APPLE-RADIUS=72;X-TITLE=Θέατρο Θ
 ησείον :37.9785;23.7209
END:VEVENT
END:VCALENDAR