BEGIN:VCALENDAR
VERSION:2.0
PRODID:Events Booking
BEGIN:VEVENT
UID:69e5e309dd502
SUMMARY:Νατάσσα Μποφίλιου
DESCRIPTION:Μια παράσταση των Θέμη Καραμουρατ
 ίδη &amp\; Γεράσιμου Ευαγγελάτου
 
LOCATION:Κυπαρισσία\, Ελλάδα
DTSTART:20220813T160000Z
DTEND:20220813T175900Z
DTSTAMP:20231116T105416Z
ORGANIZER:MAILTO:doraq@brainfoodmedia.gr
GEO:37.251202;21.669399
X-APPLE-STRUCTURED-LOCATION;VALUE=URI;X-ADDRESS=Κυπαρισσία\, Ελ
 λάδα;X-APPLE-RADIUS=72;X-TITLE=Τρενοτεχνείο:37.251202;21.6
 69399
END:VEVENT
END:VCALENDAR