BEGIN:VCALENDAR
VERSION:2.0
PRODID:Events Booking
BEGIN:VEVENT
UID:69e736d06b8cb
SUMMARY:Μυθικός Καραγκιόζης: Περσέας και Ανδ
 ρομέδα
DESCRIPTION:Ο καραγκιοζοπαίχτης Κωνσταντίνος 
 Κουτσουμπλής\, γεμάτος κέφι και έμπνευση
  μεταφέρει την παράγκα του Καραγκιόζη στ
 ο απόλυτο σκηνικό.
 
LOCATION:Αγίας Άννης και Μικέλη\, Αθήνα 122 41\, Ε
 λλάδα
DTSTART:20191208T073000Z
DTEND:20191208T195900Z
DTSTAMP:20231116T105416Z
ORGANIZER:MAILTO:doraq@brainfoodmedia.gr
GEO:37.9832;23.6912
X-APPLE-STRUCTURED-LOCATION;VALUE=URI;X-ADDRESS=Αγίας Άννης κα
 ι Μικέλη\, Αθήνα 122 41\, Ελλάδα;X-APPLE-RADIUS=72;X-TIT
 LE=Τεχνοχώρος Cartel:37.9832;23.6912
END:VEVENT
END:VCALENDAR