BEGIN:VCALENDAR
VERSION:2.0
PRODID:Events Booking
BEGIN:VEVENT
UID:69ebca31736cc
SUMMARY:Music Soup Organ Trio
DESCRIPTION:Οι Music Soup Organ Trio γιορτάζουν 20 χρόνια
  δημιουργίας με special guest τον Christian Salfellner.
 
LOCATION:Τριβωνιανού 17\, Αθήνα 116 36\, Ελλάδα
DTSTART:20260426T183000Z
DTEND:20260425T210000Z
DTSTAMP:20260424T111706Z
ORGANIZER:MAILTO:doraq@brainfoodmedia.gr
GEO:37.965;23.734699
X-APPLE-STRUCTURED-LOCATION;VALUE=URI;X-ADDRESS=Τριβωνιανού 17\,
  Αθήνα 116 36\, Ελλάδα;X-APPLE-RADIUS=72;X-TITLE=Half Note Jazz
  Club:37.965;23.734699
END:VEVENT
END:VCALENDAR