BEGIN:VCALENDAR
VERSION:2.0
PRODID:Events Booking
BEGIN:VEVENT
UID:69ebbb6c85aff
SUMMARY:Μιχάλης Χατζηγιάννης
DESCRIPTION:Ο Μιχάλης Χατζηγιάννης μετά την πρ
 όσφατη κυκλοφορία του νέου του τραγουδι
 ού «Εσύ Είσαι Πάνω Απ’ Όλα» που βρίσκετα
 ι ήδη στις πρώτες θέσεις του ραδιοφωνικο
 ύ χάρτη της χώρας\, αλλά και μετά από μια 
 εξαιρετικά επιτυχημένη ευρωπαϊκή περιο
 δεία - επιστρέφει στην καρδιά της Αθήνας.
 
 
LOCATION:Βουτάδων 32\, Αθήνα 118 54\, Ελλάδα
DTSTART:20221217T173000Z
DTEND:20221217T195900Z
DTSTAMP:20231116T105416Z
ORGANIZER:MAILTO:doraq@brainfoodmedia.gr
GEO:37.978802;23.7124
X-APPLE-STRUCTURED-LOCATION;VALUE=URI;X-ADDRESS=Βουτάδων 32\, Αθ
 ήνα 118 54\, Ελλάδα;X-APPLE-RADIUS=72;X-TITLE=Gazarte - Roof Stag
 e:37.978802;23.7124
END:VEVENT
END:VCALENDAR