BEGIN:VCALENDAR
VERSION:2.0
PRODID:Events Booking
BEGIN:VEVENT
UID:69eaa6786e700
SUMMARY:Μίλτος Πασχαλίδης
DESCRIPTION:Πιστός στο αγαπημένο του καλοκαιρ
 ινό ραντεβού\, ο Μίλτος Πασχαλίδης θα ανέ
 βει την Παρασκευή 12 Ιουνίου στο Θέατρο Β
 ράχων.
 
LOCATION:Πλατεία Αναγνωσταρά\, Ελλάδα
DTSTART:20260612T180000Z
DTEND:20260611T210000Z
DTSTAMP:20260307T050031Z
ORGANIZER:MAILTO:doraq@brainfoodmedia.gr
GEO:37.949001;23.755301
X-APPLE-STRUCTURED-LOCATION;VALUE=URI;X-ADDRESS=Πλατεία Αναγνω
 σταρά\, Ελλάδα;X-APPLE-RADIUS=72;X-TITLE=Θέατρο Βράχ
 ων Μελίνα Μερκούρη:37.949001;23.755301
END:VEVENT
END:VCALENDAR