BEGIN:VCALENDAR
VERSION:2.0
PRODID:Events Booking
BEGIN:VEVENT
UID:69e9ebfb57f4d
SUMMARY:Mikro w/ Nalyssa Green
DESCRIPTION:Οι Mikro επιστρέφουν στην Αθήνα!
 
LOCATION:28ης Οκτωβρίου και Κοδριγκτώνος\, Αθή
 να 104 34\, Ελλάδα
DTSTART:20260430T180000Z
DTEND:20260429T210000Z
DTSTAMP:20260423T042258Z
ORGANIZER:MAILTO:doraq@brainfoodmedia.gr
GEO:37.995602;23.732201
X-APPLE-STRUCTURED-LOCATION;VALUE=URI;X-ADDRESS=28ης Οκτωβρίου 
 και Κοδριγκτώνος\, Αθήνα 104 34\, Ελλάδα;X-APPLE
 -RADIUS=72;X-TITLE=Ίλιον Plus:37.995602;23.732201
END:VEVENT
END:VCALENDAR