BEGIN:VCALENDAR
VERSION:2.0
PRODID:Events Booking
BEGIN:VEVENT
UID:69eb53ff417aa
SUMMARY:Mi55t
DESCRIPTION:Παρουσίαση Δίσκου «Λέξεις» &amp\; Αν
 αδρομή στη Δισκογραφία
 
LOCATION:Σολωμού 13\, Αθήνα 106 82\, Ελλάδα
DTSTART:20230204T170000Z
DTEND:20230204T195900Z
DTSTAMP:20231116T105416Z
ORGANIZER:MAILTO:doraq@brainfoodmedia.gr
GEO:37.9865;23.7332
X-APPLE-STRUCTURED-LOCATION;VALUE=URI;X-ADDRESS=Σολωμού 13\, Αθή
 να 106 82\, Ελλάδα;X-APPLE-RADIUS=72;X-TITLE=An Club:37.9865;23.73
 32
END:VEVENT
END:VCALENDAR