BEGIN:VCALENDAR
VERSION:2.0
PRODID:Events Booking
BEGIN:VEVENT
UID:69eb20c72f355
SUMMARY:Marco Faraone
DESCRIPTION:Το Earth Club υποδέχεται στην πιο εορτα
 στική μέρα του χρόνου\, την παραμονή Χρισ
 τουγέννων\, έναν δυνατό performer & σπεσιαλίσ
 τα της techno: Marco Faraone όπου ύστερα από απαίτ
 ηση του ίδιου θα μας χαρίσει ένα extended set μ
 έχρι πρωίας.
LOCATION:Φρίξου 5\, Θεσσαλονίκη 546 27\, Ελλάδα
DTSTART:20171224T214500Z
DTEND:20171224T214500Z
DTSTAMP:20231116T105416Z
ORGANIZER:MAILTO:doraq@brainfoodmedia.gr
GEO:40.642799;22.9147
X-APPLE-STRUCTURED-LOCATION;VALUE=URI;X-ADDRESS=Φρίξου 5\, Θεσσα
 λονίκη 546 27\, Ελλάδα;X-APPLE-RADIUS=72;X-TITLE=Earth Club:40
 .642799;22.9147
END:VEVENT
END:VCALENDAR