BEGIN:VCALENDAR
VERSION:2.0
PRODID:Events Booking
BEGIN:VEVENT
UID:69ecb1bdb90cb
SUMMARY:Μανώλης Μητσιάς
DESCRIPTION:Το ΑΛΣΟΣ στο Πεδίο του Άρεως αναδε
 ικνύεται πια\, σαν το νέο στέκι στη καρδι
 ά της πόλης. Στις 23 Νοεμβρίου\, το ΑΛΣΟΣ σ
 ηκώνει την αυλαία του σαν μουσική σκηνή 
 υψηλών προδιαγραφών\, για να μας ψυχαγωγ
 εί αλλά και να δίνει ανάσα σε αυτό το πάρ
 κο που τώρα πια μας περιβάλλει φιλικό\, π
 ροστατευμένο και φωταγωγημένο. 
LOCATION:Ευελπίδων 4\, Αθήνα 114 74\, Ελλάδα
DTSTART:20191213T163000Z
DTEND:20191213T190000Z
DTSTAMP:20231116T105416Z
ORGANIZER:MAILTO:doraq@brainfoodmedia.gr
GEO:37.995399;23.7383
X-APPLE-STRUCTURED-LOCATION;VALUE=URI;X-ADDRESS=Ευελπίδων 4\, Αθ
 ήνα 114 74\, Ελλάδα;X-APPLE-RADIUS=72;X-TITLE=Θέατρο Άλσ
 ος ΔΕΗ:37.995399;23.7383
END:VEVENT
END:VCALENDAR